BEGIN:VCALENDAR
VERSION:2.0
PRODID:-//Jugendforum Riedlingen e.V. - ECPv6.15.20//NONSGML v1.0//EN
CALSCALE:GREGORIAN
METHOD:PUBLISH
X-WR-CALNAME:Jugendforum Riedlingen e.V.
X-ORIGINAL-URL:https://juforiedlingen.org
X-WR-CALDESC:Veranstaltungen für Jugendforum Riedlingen e.V.
REFRESH-INTERVAL;VALUE=DURATION:PT1H
X-Robots-Tag:noindex
X-PUBLISHED-TTL:PT1H
BEGIN:VTIMEZONE
TZID:Europe/Berlin
BEGIN:DAYLIGHT
TZOFFSETFROM:+0100
TZOFFSETTO:+0200
TZNAME:CEST
DTSTART:20250330T010000
END:DAYLIGHT
BEGIN:STANDARD
TZOFFSETFROM:+0200
TZOFFSETTO:+0100
TZNAME:CET
DTSTART:20251026T010000
END:STANDARD
BEGIN:DAYLIGHT
TZOFFSETFROM:+0100
TZOFFSETTO:+0200
TZNAME:CEST
DTSTART:20260329T010000
END:DAYLIGHT
BEGIN:STANDARD
TZOFFSETFROM:+0200
TZOFFSETTO:+0100
TZNAME:CET
DTSTART:20261025T010000
END:STANDARD
BEGIN:DAYLIGHT
TZOFFSETFROM:+0100
TZOFFSETTO:+0200
TZNAME:CEST
DTSTART:20270328T010000
END:DAYLIGHT
BEGIN:STANDARD
TZOFFSETFROM:+0200
TZOFFSETTO:+0100
TZNAME:CET
DTSTART:20271031T010000
END:STANDARD
END:VTIMEZONE
BEGIN:VEVENT
DTSTART;TZID=Europe/Berlin:20260516T110000
DTEND;TZID=Europe/Berlin:20260516T210000
DTSTAMP:20260419T223734
CREATED:20250521T221112Z
LAST-MODIFIED:20260415T193305Z
UID:2110-1778929200-1778965200@juforiedlingen.org
SUMMARY:Flohmarkt Open Air 2026
DESCRIPTION:FOA – Instagram\n\nFOA – LinkTree\n\n\n\n\n\nStadtfestival\n\n\n\n\n\n\n\n                  \n                    \n                  \n                Über das Open AirStages\n\nMainstageTechnozelt\nTimetable\n\nMainstageTechnozelt\nActs\n\nMainstage\n	\nDJ Thomy ThunderRare & VintageSaving BryanGong OperatorIndependent CrewTune Circus	\nTechnozelt\n	\nCosinus	\n\nLageplanParkenUnsere Sponsoren\n\n\n\n\n\n\n\n\n\n\nFOA – Instagram\n\nFOA – LinkTree\n\n\n\n\n\nÜber das Open Air\n\n\n\n\n33 Jahre Flohmarkt Open Air auf der Donauinsel!Seit 1993 findet das Flohmarkt Festival auch auf der Donauinsel statt – und 2026 feiern wir wieder gemeinsam den Start in den Sommer!FLOHMARKT OPEN AIR 2026Auch dieses Jahr lädt das Flohmarkt Open Air auf der Riedlinger Donauinsel zum Feiern\, Entspannen und Genießen ein. Die Veranstaltung begleitet den traditionsreichen Flohmarkt in Riedlingen – wohl einer der ältesten und größten im süddeutschen Raum – und bietet den perfekten Ausgleich zum lebhaften Marktgeschehen.Ob vor der MainStage mit Live-Bands\, im Technozelt\, entspannt an den Biertischen in der Sonne oder direkt am Wasser – auf der Donauinsel ist für jede*n Platz.Weitere Infos findet ihr auf unserer Website (Link in Bio) sowie in den kommenden Wochen hier auf unseren Kanälen.Teilt die Veranstaltung und erzählt euren Freund*innen davon – wir freuen uns darauf\, gemeinsam mit euch ein fröhliches und ausgelassenes Flohmarkt Open Air 2026 zu feiernBe there\, have fun \n\n\n\n\nStages\n\n\n\nMainstageTechno Zelt\n\nMainstage\n\n\n\n\nAuf unsere MainStage spielen Bands und DJs von 11 Uhr bis 20:30 Uhr Live-Musik. Wir bieten euch im Laufe des Tages ein breites Spektrum an Genres. Ob Funk\, Rock oder anderes. Es ist für jeden was dabei!  \n\n\n\n\n\n\n\n\n\n\n\n\n\n\n\n\nDJ Zelt\n\n\n\n\nFür alle Raver unter euch ist auch gesorgt! Wie im letzten Jahr spielen wir im Technozelt ab 13 Uhr Trance. Wer also mehr Lust auf nice Beats hat\, als auf unsere Bands auf der MainStage\, ist hier genau richtig.  \n\n\n\n \n\n\n\n\n\n\nTimetable\n\n\n\n\n\nMainstageTechno Zelt\n\n\n\n\n11:00 – 12:45h \n\n\n\n\n\nDJ THOMY THUNDER \n\n\n\n\n\n\n\n13:00 – 14:10h \n\n\n\n\n\nRARE & VINTAGE \n\n\n\n\n\n\n\n14:30 – 15:15h \n\n\n\n\n\nSAVING BRYAN \n\n\n\n\n\n\n\n15:30 – 16:40h \n\n\n\n\n\nGONG OPERATOR \n\n\n\n\n\n\n\n17:00 – 17:15h \n\n\n\n\n\nINDEPENDENT CREW \n\n\n\n\n\n\n\n17:30 – 19:15h \n\n\n\n\n\nTUNE CIRCUS \n\n\n\n\n\n\n\n19:30 – 21:00h \n\n\n\n\n\nDJ THOMY THUNDER \n\n\n\n\n\n\n\n\nDer Timetable fürs Technozelt folgt \n\n\n\n\n\n\n\n\n\n\n\nLageplan\n\n\n\n\nDie Donauinsel wird während des Open-Airs zu einem lebendigen Zentrum voller Musik\, Kultur und Entspannung. Es wird für spannende musikalische Highlights und gemütliche Rückzugsorte gesorgt. Der Lageplan bietet euch einen Einblick von dem was euch erwarten wird. \n\n\n\n\n\n\n\n\n\n\n\n\n\n\n\n\nWo kann ich Parken?\n\n\n\n\nDie großen Parkplätze rund um die Stadt\, sind sehr gut ausgeschildert. P1: Brühlweg\,  in Richtung SegelflugplatzP2: Richtung ReithalleP3: Hinter JET TankstelleP4: Neu! Parkplatz für gehbehinderte im Schulhof der Josef-Christian-Schule in der Kirchstrasse Bitte berücksichtige\,  dass ab dem frühen Morgen die kleineren Parkplätze schnell voll sind.  Wir empfehlen den Hinweisschildern zu den großen Parkplätzen zu folgen  \n\n\n\n\n\n\n\n\n\n\n\n\n\n\n\n\nUnsere Sponsoren\n\n\n\n\n\n\n\n\n\n\n\n\n\n\n\n\n\n\n\n\n\n\n\n\n\n\n\n\n\n\n	\n		\n\n			\n			\n\n							\n					\n						Bevorstehende Veranstaltungen					\n				\n			\n			\n				\n											\n\n	\n	\n		\n			Mai		\n		\n			16		\n	\n\n\n	\n		\n			\n\n				\n					\n	\n	\n	\n\n\n\n	Hervorgehoben\n	\n		11:00 – 21:00	\n	\n					\n	\n		Flohmarkt Open Air 2026	\n\n				\n\n				\n			\n		\n	\n\n\n											\n\n	\n	\n		\n			Juli		\n		\n			3		\n	\n\n\n	\n		\n			\n\n				\n					\n		\n		3. Juli 2026 – 5. Juli 2026	\n	\n					\n	\n		Stadtfestival	\n\n				\n\n				\n			\n		\n	\n\n\n									\n\n				\n	\n		Kalender anzeigen	\n\n\n					\n	\n\n\n\n\n\n\n\n\n\n\nZur Geschichte des FOA\n\n\n\n\n\n\n\n\nArchiv\n\n\n\nFlohmarkt Open Air 2026\n\nFlohmarkt Open Air 2025\n\nFlohmarkt Open Air 2024\n\n\n\n\n\n1\n2\n3\n4\n\nNächste Seite
URL:https://juforiedlingen.org/programm/flohmarkt-open-air/
LOCATION:Donauinsel Riedlingen\, Hindenburgstraße 1\, 88499 Riedlingen\, Deutschland
CATEGORIES:Open Air,Party
ATTACH;FMTTYPE=image/jpeg:https://juforiedlingen.org/wp-content/uploads/2025/05/webseite-scaled.jpg
ORGANIZER;CN="Jugendforum Riedlingen e.V.":MAILTO:info@juforiedlingen.org
END:VEVENT
END:VCALENDAR