BEGIN:VCALENDAR
VERSION:2.0
PRODID:-//Jugendforum Riedlingen e.V. - ECPv6.15.20//NONSGML v1.0//EN
CALSCALE:GREGORIAN
METHOD:PUBLISH
X-ORIGINAL-URL:https://juforiedlingen.org
X-WR-CALDESC:Veranstaltungen für Jugendforum Riedlingen e.V.
REFRESH-INTERVAL;VALUE=DURATION:PT1H
X-Robots-Tag:noindex
X-PUBLISHED-TTL:PT1H
BEGIN:VTIMEZONE
TZID:Europe/Berlin
BEGIN:DAYLIGHT
TZOFFSETFROM:+0100
TZOFFSETTO:+0200
TZNAME:CEST
DTSTART:20250330T010000
END:DAYLIGHT
BEGIN:STANDARD
TZOFFSETFROM:+0200
TZOFFSETTO:+0100
TZNAME:CET
DTSTART:20251026T010000
END:STANDARD
BEGIN:DAYLIGHT
TZOFFSETFROM:+0100
TZOFFSETTO:+0200
TZNAME:CEST
DTSTART:20260329T010000
END:DAYLIGHT
BEGIN:STANDARD
TZOFFSETFROM:+0200
TZOFFSETTO:+0100
TZNAME:CET
DTSTART:20261025T010000
END:STANDARD
BEGIN:DAYLIGHT
TZOFFSETFROM:+0100
TZOFFSETTO:+0200
TZNAME:CEST
DTSTART:20270328T010000
END:DAYLIGHT
BEGIN:STANDARD
TZOFFSETFROM:+0200
TZOFFSETTO:+0100
TZNAME:CET
DTSTART:20271031T010000
END:STANDARD
END:VTIMEZONE
BEGIN:VEVENT
DTSTART;TZID=Europe/Berlin:20260703T000000
DTEND;TZID=Europe/Berlin:20260705T235959
DTSTAMP:20260425T130650
CREATED:20251215T115040Z
LAST-MODIFIED:20251215T115432Z
UID:2951-1783036800-1783295999@juforiedlingen.org
SUMMARY:Stadtfestival
DESCRIPTION:Infos folgen
URL:https://juforiedlingen.org/programm/stadtfestival/
ATTACH;FMTTYPE=image/jpeg:https://juforiedlingen.org/wp-content/uploads/2025/12/stadtfestival.jpg
END:VEVENT
END:VCALENDAR